BEGIN:VCALENDAR
VERSION:2.0
PRODID:-//OmniMagnetCalendar//EN
BEGIN:VEVENT
DTSTAMP:20190625T195740Z
STATUS:CONFIRMED
UID:hcaustin.clubs.harvard.edu256
DTSTART:20180223T170000Z
DTEND:20180223T193000Z
LOCATION:Cover #, 1717 W 6th St, Austin, TEXAS, United States,
SUMMARY:Harvard-Princeton Basketball Game
DESCRIPTION:
BEGIN:VALARM
TRIGGER:-PT15M
ACTION:DISPLAY
END:VALARM
TRANSP:OPAQUE
END:VEVENT
END:VCALENDAR
