BEGIN:VCALENDAR
VERSION:2.0
PRODID:-//OmniMagnetCalendar//EN
BEGIN:VEVENT
DTSTAMP:20190625T195740Z
STATUS:CONFIRMED
UID:hcaustin.clubs.harvard.edu255
DTSTART:20180201T163000Z
DTEND:20180201T183000Z
LOCATION:The Belmont, 305 West 6th Street, Austin, TX, 78701,
SUMMARY:Fundraiser Reception for John Turner, Democratic candidate for State Representative, Texas House Dis
DESCRIPTION:
BEGIN:VALARM
TRIGGER:-PT15M
ACTION:DISPLAY
END:VALARM
TRANSP:OPAQUE
END:VEVENT
END:VCALENDAR
