BEGIN:VCALENDAR
VERSION:2.0
PRODID:-//OmniMagnetCalendar//EN
BEGIN:VEVENT
DTSTAMP:20190625T195740Z
STATUS:CONFIRMED
UID:hcaustin.clubs.harvard.edu254
DTSTART:20180128T160000Z
DTEND:20180128T173000Z
LOCATION:Milano Cafe, 4601 Southwest Parkway, Austin, TX, 78735,
SUMMARY:All Ivy Stanford Dinner Talk by Nadeem Hussain, Ph.D., Associate Professor of Philosophy and German
DESCRIPTION:
BEGIN:VALARM
TRIGGER:-PT15M
ACTION:DISPLAY
END:VALARM
TRANSP:OPAQUE
END:VEVENT
END:VCALENDAR
