BEGIN:VCALENDAR
VERSION:2.0
PRODID:-//OmniMagnetCalendar//EN
BEGIN:VEVENT
DTSTAMP:20190625T195740Z
STATUS:CONFIRMED
UID:hcaustin.clubs.harvard.edu245
DTSTART:20171116T163000Z
DTEND:20171116T193000Z
LOCATION:Still Austin Whiskey Co, 440 E St Elmo Rd, Austin, TX, 78745,
SUMMARY:Harvard Alumni Supper Club Event
DESCRIPTION:
BEGIN:VALARM
TRIGGER:-PT15M
ACTION:DISPLAY
END:VALARM
TRANSP:OPAQUE
END:VEVENT
END:VCALENDAR
