BEGIN:VCALENDAR
VERSION:2.0
PRODID:-//OmniMagnetCalendar//EN
BEGIN:VEVENT
DTSTAMP:20190625T195740Z
STATUS:CONFIRMED
UID:hcaustin.clubs.harvard.edu243
DTSTART:20171020T083000Z
DTEND:20171020T110000Z
LOCATION:
SUMMARY:5th Annual Grant Brown Memorial Golf Tournament.
DESCRIPTION:Memorial Golf Tournament
BEGIN:VALARM
TRIGGER:-PT15M
ACTION:DISPLAY
END:VALARM
TRANSP:OPAQUE
END:VEVENT
END:VCALENDAR
