BEGIN:VCALENDAR
VERSION:2.0
PRODID:-//OmniMagnetCalendar//EN
BEGIN:VEVENT
DTSTAMP:20190625T195740Z
STATUS:CONFIRMED
UID:hcaustin.clubs.harvard.edu239
DTSTART:20170718T163000Z
DTEND:20170718T190000Z
LOCATION:Contigo, 2027 Anchor Lane, Austin, TX, 78723,
SUMMARY:Chef's Table at Contigo
DESCRIPTION:Harvard Club of Austin dinner series
BEGIN:VALARM
TRIGGER:-PT15M
ACTION:DISPLAY
END:VALARM
TRANSP:OPAQUE
END:VEVENT
END:VCALENDAR
