BEGIN:VCALENDAR
VERSION:2.0
PRODID:-//OmniMagnetCalendar//EN
BEGIN:VEVENT
DTSTAMP:20190625T195740Z
STATUS:CONFIRMED
UID:hcaustin.clubs.harvard.edu238
DTSTART:20170617T110000Z
DTEND:20170617T130000Z
LOCATION:La Patisserie, 7301 Burnet Rd, Suite 102, Austin, TX, 78757, USA,
SUMMARY:Macaron Making class this Saturday! Only 4 spots left
DESCRIPTION:Macaron Making Class
BEGIN:VALARM
TRIGGER:-PT15M
ACTION:DISPLAY
END:VALARM
TRANSP:OPAQUE
END:VEVENT
END:VCALENDAR
