BEGIN:VCALENDAR
VERSION:2.0
PRODID:-//OmniMagnetCalendar//EN
BEGIN:VEVENT
DTSTAMP:20190625T195740Z
STATUS:CONFIRMED
UID:hcaustin.clubs.harvard.edu237
DTSTART:20170612T160000Z
DTEND:20170612T180000Z
LOCATION:Four Seasons , 98 San Jacinto Blvd, Austin, TX, 78701,
SUMMARY:Global Networking Night at the Four Seasons
DESCRIPTION:
BEGIN:VALARM
TRIGGER:-PT15M
ACTION:DISPLAY
END:VALARM
TRANSP:OPAQUE
END:VEVENT
END:VCALENDAR
