BEGIN:VCALENDAR
VERSION:2.0
PRODID:-//OmniMagnetCalendar//EN
BEGIN:VEVENT
DTSTAMP:20190625T195740Z
STATUS:CONFIRMED
UID:hcaustin.clubs.harvard.edu236
DTSTART:20170610T130000Z
DTEND:20170610T160000Z
LOCATION:Blue Owl Brewing, 2400 E Cesar Chavez st., Ste 300, Austin, TX,
SUMMARY:All Ivy+: MIT alumni club: Blue Owl tour and tasting
DESCRIPTION:
BEGIN:VALARM
TRIGGER:-PT15M
ACTION:DISPLAY
END:VALARM
TRANSP:OPAQUE
END:VEVENT
END:VCALENDAR
