BEGIN:VCALENDAR
VERSION:2.0
PRODID:-//OmniMagnetCalendar//EN
BEGIN:VEVENT
DTSTAMP:20190625T195740Z
STATUS:CONFIRMED
UID:hcaustin.clubs.harvard.edu233
DTSTART:20170330T160000Z
DTEND:20170330T180000Z
LOCATION:Community Room in the Triangle Apartments, 4600 W Guadalupe St, Austin, TX, 78751, usa,
SUMMARY:Ivy+ Networking event (Cornell): Empowering your career and professional networking using LinkedIn
DESCRIPTION:Empowering your career and professional networking using Linkedin
BEGIN:VALARM
TRIGGER:-PT15M
ACTION:DISPLAY
END:VALARM
TRANSP:OPAQUE
END:VEVENT
END:VCALENDAR
