BEGIN:VCALENDAR
VERSION:2.0
PRODID:-//OmniMagnetCalendar//EN
BEGIN:VEVENT
DTSTAMP:20190625T195740Z
STATUS:CONFIRMED
UID:hcaustin.clubs.harvard.edu232
DTSTART:20170530T153000Z
DTEND:20170530T210000Z
LOCATION:Flour and Vine, 300 S Lamar Blvd, Ste A, 78704, Austin, TX, 78704, USA,
SUMMARY:All Ivy Plus Symphony Event
DESCRIPTION:All Ivy Plus Dinner and Symphony Event
BEGIN:VALARM
TRIGGER:-PT15M
ACTION:DISPLAY
END:VALARM
TRANSP:OPAQUE
END:VEVENT
END:VCALENDAR
