BEGIN:VCALENDAR
VERSION:2.0
PRODID:-//OmniMagnetCalendar//EN
BEGIN:VEVENT
DTSTAMP:20190625T195740Z
STATUS:CONFIRMED
UID:hcaustin.clubs.harvard.edu230
DTSTART:20170223T163000Z
DTEND:20170223T190000Z
LOCATION:Barlata, 1500 S Congress Ave - Suite 150, Austin, TX, 78704,
SUMMARY:February All Ivy Happy Hour (Austin)
DESCRIPTION:Hosted by Penn
BEGIN:VALARM
TRIGGER:-PT15M
ACTION:DISPLAY
END:VALARM
TRANSP:OPAQUE
END:VEVENT
END:VCALENDAR
