BEGIN:VCALENDAR
VERSION:2.0
PRODID:-//OmniMagnetCalendar//EN
BEGIN:VEVENT
DTSTAMP:20190625T195740Z
STATUS:CONFIRMED
UID:hcaustin.clubs.harvard.edu228
DTSTART:20161208T173000Z
DTEND:20161208T190000Z
LOCATION:Thompson and Knight, 98 San Jacinto Blvd - Suite 1900 ,
SUMMARY:December Board Meeting
DESCRIPTION:Board Meetiing - Harvard Club of Austin
BEGIN:VALARM
TRIGGER:-PT15M
ACTION:DISPLAY
END:VALARM
TRANSP:OPAQUE
END:VEVENT
END:VCALENDAR
