BEGIN:VCALENDAR
VERSION:2.0
PRODID:-//OmniMagnetCalendar//EN
BEGIN:VEVENT
DTSTAMP:20190625T195740Z
STATUS:CONFIRMED
UID:hcaustin.clubs.harvard.edu227
DTSTART:20161215T163000Z
DTEND:20161215T190000Z
LOCATION:Blanton Museum of Art, 200 E Martin Luther King Jr Blvd, Austin, TX, 78701,
SUMMARY:IVY Plus - CONSPIRARE Big Sing & Rocking Holiday Extravaganza
DESCRIPTION:Two sing-along concerts that are happening on December 15
BEGIN:VALARM
TRIGGER:-PT15M
ACTION:DISPLAY
END:VALARM
TRANSP:OPAQUE
END:VEVENT
END:VCALENDAR
