BEGIN:VCALENDAR
VERSION:2.0
PRODID:-//OmniMagnetCalendar//EN
BEGIN:VEVENT
DTSTAMP:20190625T195740Z
STATUS:CONFIRMED
UID:hcaustin.clubs.harvard.edu226
DTSTART:20161205T180000Z
DTEND:20161205T210000Z
LOCATION:Great Hills Country Club, 5914 Lost Horizon Dr, Austin, TX, 78759, USA,
SUMMARY:SOLD OUT! 2016 All Ivy Plus Holiday Party
DESCRIPTION:
BEGIN:VALARM
TRIGGER:-PT15M
ACTION:DISPLAY
END:VALARM
TRANSP:OPAQUE
END:VEVENT
END:VCALENDAR
